BEGIN:VCALENDAR
PRODID:-//AT Content Types//AT Event//EN
VERSION:2.0
METHOD:PUBLISH
BEGIN:VEVENT
DTSTAMP:20260421T165142Z
CREATED:20150425T172849Z
UID:ATEvent-a64d9b5e52e149f1a06de3e8904ce80c
LAST-MODIFIED:20150506T151345Z
SUMMARY:Reunião Água - Segundo Encontro
DTSTART:20150407T200000Z
DTEND:20150407T213000Z
LOCATION:Sala de Eventos do IEA\, Rua Praça do Relógio\, 109\, bloco K\, 5º andar\, Cidade Universitária\, São Paulo
CATEGORIES:Clima, Evento interno, Água, Institucional
CONTACT:Rafael Borsanelli\, (11) 3091-1666\, rborsanelli@usp.br
CLASS:PUBLIC
END:VEVENT
END:VCALENDAR
