BEGIN:VCALENDAR
PRODID:-//AT Content Types//AT Event//EN
VERSION:2.0
METHOD:PUBLISH
BEGIN:VEVENT
DTSTAMP:20260420T012842Z
CREATED:20150219T192556Z
UID:ATEvent-34e2fc19b7f04f5f876767b30db7ff04
LAST-MODIFIED:20150506T151433Z
SUMMARY:Reunião Água
DTSTART:20150219T120000Z
DTEND:20150219T150000Z
LOCATION:Sala de Eventos do IEA\, Rua Praça do Relógio\, 109\, bloco K\, 5º andar\, Cidade Universitária\, São Paulo
CATEGORIES:Clima, Evento interno, Água, Institucional
CONTACT:Rafael Borsanelli\, (11) 3091-1666\, rborsanelli@usp.br
CLASS:PUBLIC
END:VEVENT
END:VCALENDAR
