BEGIN:VCALENDAR
PRODID:-//AT Content Types//AT Event//EN
VERSION:2.0
METHOD:PUBLISH
BEGIN:VEVENT
DTSTAMP:20260421T190358Z
CREATED:20201210T175337Z
UID:ATEvent-67e388f95fa049459265e269dabbb882
LAST-MODIFIED:20201211T183941Z
SUMMARY:The Road to Science\, Technology\, and Innovation (STI) Cooperation of Two "Start-up Nations": Brazil and Israel
DTSTART:20201215T173000Z
DTEND:20201215T183000Z
LOCATION:On-line
CATEGORIES:Tecnologia, Evento público, Inovação, Evento online, Ciência
CLASS:PUBLIC
END:VEVENT
END:VCALENDAR
