BEGIN:VCALENDAR
PRODID:-//AT Content Types//AT Event//EN
VERSION:1.0
BEGIN:VEVENT
DTSTART:20250528T130000Z
DTEND:20250528T150000Z
DCREATED:20250507T180312Z
UID:ATEvent-9d5259e6c5d2420597c07f2b97c0c2d6
SEQUENCE:0
LAST-MODIFIED:20251204T132705Z
SUMMARY:Entre Roças e Pomares: a Rede de Espaços Vegetados em Estabelecimentos Jesuíticos na América Portuguesa entre os Séculos XVI e XVIII
LOCATION:ON-LINE
PRIORITY:3
TRANSP:0
END:VEVENT
END:VCALENDAR
