BEGIN:VCALENDAR
PRODID:-//AT Content Types//AT Event//EN
VERSION:1.0
BEGIN:VEVENT
DTSTART:20250804T113000Z
DTEND:20250804T200000Z
DCREATED:20250710T131318Z
UID:ATEvent-bbd21ffb7d774268acf8b949d7c5d167
SEQUENCE:0
LAST-MODIFIED:20251216T135543Z
SUMMARY:Saúde Mental de Estudantes Universitários: Escutar\, Aconselhar e Cuidar
LOCATION:IEA\, Sala Alfredo Bosi\, Rua da Praça do Relógio\, 109\, térreo\, Cidade Universitária\, São Paulo\, SP
PRIORITY:3
TRANSP:0
END:VEVENT
END:VCALENDAR
