BEGIN:VCALENDAR
PRODID:-//AT Content Types//AT Event//EN
VERSION:1.0
BEGIN:VEVENT
DTSTART:20250319T130000Z
DTEND:20250319T150000Z
DCREATED:20250228T182406Z
UID:ATEvent-453784e0ea6d47eb94b82bf1b744367d
SEQUENCE:0
LAST-MODIFIED:20250314T115553Z
SUMMARY:Saúde da Mulher no Século 21: Desafios e Perspectivas
LOCATION:IEA\, Sala Alfredo Bosi\, Rua da Praça do Relógio\, 109\, térreo\, 109\, Cidade Universitária\, São Paulo
PRIORITY:3
TRANSP:0
END:VEVENT
END:VCALENDAR
