BEGIN:VCALENDAR
PRODID:-//AT Content Types//AT Event//EN
VERSION:2.0
METHOD:PUBLISH
BEGIN:VEVENT
DTSTAMP:20260425T030340Z
CREATED:20220426T182339Z
UID:ATEvent-f407b074334249d8bc4bcee4f8649a8d
LAST-MODIFIED:20220621T140904Z
SUMMARY:Saúde Urbana em Debate: Atributos Urbanos e Saúde do Coração
DTSTART:20220513T170000Z
DTEND:20220513T200000Z
LOCATION:Sala Alfredo Bosi\, Rua Praça do Relógio\, 109\, Cidade Universitária\, São Paulo
CATEGORIES:Evento público, Grupo de Estudo Espaço Urbano e Saúde, Políticas Públicas, Saúde Pública, Saúde
CONTACT:Cláudia R. Pereira\, 11 3091-1686\, clauregi@usp.br
URL:http://www.iea.usp.br/aovivo
CLASS:PUBLIC
END:VEVENT
END:VCALENDAR
