BEGIN:VCALENDAR
PRODID:-//AT Content Types//AT Event//EN
VERSION:1.0
BEGIN:VEVENT
DTSTART:20230331T170000Z
DTEND:20230331T200000Z
DCREATED:20230301T171324Z
UID:ATEvent-d06a3d0aee594a658ac4fcdd96b8952e
SEQUENCE:0
LAST-MODIFIED:20230922T115938Z
SUMMARY:Sistemas de Aquecimento Solar no Brasil
LOCATION:On-line
PRIORITY:3
TRANSP:0
END:VEVENT
END:VCALENDAR
