BEGIN:VCALENDAR
PRODID:-//AT Content Types//AT Event//EN
VERSION:1.0
BEGIN:VEVENT
DTSTART:20240823T120000Z
DTEND:20240823T160000Z
DCREATED:20240807T135713Z
UID:ATEvent-af07b2c06b64444c9f1c834362a0c4f9
SEQUENCE:0
LAST-MODIFIED:20241205T135219Z
SUMMARY:Sonhar e Criar na Função da Poética Visual Ancestral
LOCATION:Sala Alfredo Bosi\, Rua Praça do Relógio\, 109\, Cidade Universitária\, São Paulo
PRIORITY:3
TRANSP:0
END:VEVENT
END:VCALENDAR
