BEGIN:VCALENDAR
PRODID:-//AT Content Types//AT Event//EN
VERSION:2.0
METHOD:PUBLISH
BEGIN:VEVENT
DTSTAMP:20260422T150352Z
CREATED:20211214T130424Z
UID:ATEvent-94154c0e192c4b4b902ff6755d74591a
LAST-MODIFIED:20211214T131514Z
SUMMARY:Sustentabilidade: Diálogos Entre a Universidade e a Educação Básica
DTSTART:20211216T203000Z
DTEND:20211216T223000Z
LOCATION:On-line
CATEGORIES:Educação, Evento público, Evento online, Sustentabilidade, Universidade
CONTACT:Larissa Cruz\, larissabcruz@usp.br
CLASS:PUBLIC
END:VEVENT
END:VCALENDAR
