BEGIN:VCALENDAR
PRODID:-//AT Content Types//AT Event//EN
VERSION:1.0
BEGIN:VEVENT
DTSTART:20200514T230000Z
DTEND:20200515T010000Z
DCREATED:20200512T121622Z
UID:ATEvent-59886a7bf82248ae9cc2119b79b438bc
SEQUENCE:0
LAST-MODIFIED:20200527T162324Z
SUMMARY:Território em Intempérie: Pós-Covid-19 - Protocolos Emergenciais
LOCATION:On-line
PRIORITY:3
TRANSP:0
END:VEVENT
END:VCALENDAR
