BEGIN:VCALENDAR
PRODID:-//AT Content Types//AT Event//EN
VERSION:2.0
METHOD:PUBLISH
BEGIN:VEVENT
DTSTAMP:20260424T111538Z
CREATED:20200403T183245Z
UID:ATEvent-a835d1ace48747768f9af6f2254b65e1
LAST-MODIFIED:20200731T113107Z
SUMMARY:UrbanSus - Sustentabilidade Urbana:  Rios Urbanos e Infraestrutura Verde
DTSTART:20200709T120000Z
DTEND:20200709T150000Z
LOCATION:On-line
CATEGORIES:Evento público, UrbanSus, Evento online, Mudanças Globais, Sustentabilidade, Ecossistemas, Cidades, Programa USP Cidades Globais, Água
CONTACT:Sandra Sedini\, sedini@usp.br
CLASS:PUBLIC
END:VEVENT
END:VCALENDAR
