BEGIN:VCALENDAR
PRODID:-//AT Content Types//AT Event//EN
VERSION:2.0
METHOD:PUBLISH
BEGIN:VEVENT
DTSTAMP:20260423T192613Z
CREATED:20250829T104427Z
UID:ATEvent-845657933e854958b945904411be8516
LAST-MODIFIED:20250925T162015Z
SUMMARY:Políticas Públicas Estratégicas em Tempos de Turbulência
DTSTART:20250930T170000Z
DTEND:20250930T193000Z
LOCATION:Espaço Brasiliana\, Auditório István Jancsó\,  Rua da Biblioteca\, 21\, Cidade Universitária\, São Paulo
CATEGORIES:Evento público, Crise Política, Desinformação, USP Pensa Brasil, Eixos Temáticos USP, Políticas Públicas, Democracia, Conhecimento, Poder
CONTACT:Sandra Sedini\, sedini@usp.br
CLASS:PUBLIC
END:VEVENT
END:VCALENDAR
