BEGIN:VCALENDAR
PRODID:-//AT Content Types//AT Event//EN
VERSION:1.0
BEGIN:VEVENT
DTSTART:20161019T100000Z
DTEND:20161019T200000Z
DCREATED:20161011T164901Z
UID:ATEvent-84d0fc7805d346a7a8b2b47d0c6c9491
SEQUENCE:0
LAST-MODIFIED:20161011T165249Z
SUMMARY:V Seminário do Ciência Web
LOCATION:Auditório do CDCC-USP (Rua Nove de Julho\, nº 1227\, Centro\, São Carlos-SP)
PRIORITY:3
TRANSP:0
END:VEVENT
END:VCALENDAR
