BEGIN:VCALENDAR
PRODID:-//AT Content Types//AT Event//EN
VERSION:1.0
BEGIN:VEVENT
DTSTART:20151023T113000Z
DTEND:20151023T143000Z
DCREATED:20150708T201616Z
UID:ATEvent-3cf4b1ed3a8d43fdb85b80167dcd07e6
SEQUENCE:0
LAST-MODIFIED:20160203T183948Z
SUMMARY:Valores\, Heurística e Política: Uma Exploração da Relação entre Valores Sociais e Metodológicos em Ciências
LOCATION:Sala de Eventos do IEA - Rua da Praça do Relógio\, 109\, Bloco K\, 5°andar\, Cidade Universitária\, São Paulo
PRIORITY:3
TRANSP:0
END:VEVENT
END:VCALENDAR
