BEGIN:VCALENDAR
PRODID:-//AT Content Types//AT Event//EN
VERSION:1.0
BEGIN:VEVENT
DTSTART:20221122T130000Z
DTEND:20221122T143000Z
DCREATED:20221004T184154Z
UID:ATEvent-ee5abdba09d34307bd9ed4b8463d45a5
SEQUENCE:0
LAST-MODIFIED:20221216T170610Z
SUMMARY:Vieses Tecnológicos no Projeto Siderúrgico de João VI
LOCATION:ON-LINE
PRIORITY:3
TRANSP:0
END:VEVENT
END:VCALENDAR
