BEGIN:VCALENDAR
PRODID:-//AT Content Types//AT Event//EN
VERSION:1.0
BEGIN:VEVENT
DTSTART:20160603T160000Z
DTEND:20160603T203000Z
DCREATED:20160523T151611Z
UID:ATEvent-4c3c2b0ef29445d986665550a73fbc41
SEQUENCE:0
LAST-MODIFIED:20160707T132720Z
SUMMARY:X Seminário de Manejo Integrado
LOCATION:Auditório Professor Doutor Plinio Soares Moreira\, Instituto Oceanográfico\, Praça do Oceanográfico\, 191\, Cidade Universitária\, São Paulo.
PRIORITY:3
TRANSP:0
END:VEVENT
END:VCALENDAR
